BEGIN:VCALENDAR
VERSION:2.0
PRODID:-//Whitetail Golf Club - ECPv6.15.16//NONSGML v1.0//EN
CALSCALE:GREGORIAN
METHOD:PUBLISH
X-WR-CALNAME:Whitetail Golf Club
X-ORIGINAL-URL:https://whitetailgolfclub.ca
X-WR-CALDESC:Events for Whitetail Golf Club
REFRESH-INTERVAL;VALUE=DURATION:PT1H
X-Robots-Tag:noindex
X-PUBLISHED-TTL:PT1H
BEGIN:VTIMEZONE
TZID:America/Toronto
BEGIN:DAYLIGHT
TZOFFSETFROM:-0500
TZOFFSETTO:-0400
TZNAME:EDT
DTSTART:20250309T070000
END:DAYLIGHT
BEGIN:STANDARD
TZOFFSETFROM:-0400
TZOFFSETTO:-0500
TZNAME:EST
DTSTART:20251102T060000
END:STANDARD
BEGIN:DAYLIGHT
TZOFFSETFROM:-0500
TZOFFSETTO:-0400
TZNAME:EDT
DTSTART:20260308T070000
END:DAYLIGHT
BEGIN:STANDARD
TZOFFSETFROM:-0400
TZOFFSETTO:-0500
TZNAME:EST
DTSTART:20261101T060000
END:STANDARD
BEGIN:DAYLIGHT
TZOFFSETFROM:-0500
TZOFFSETTO:-0400
TZNAME:EDT
DTSTART:20270314T070000
END:DAYLIGHT
BEGIN:STANDARD
TZOFFSETFROM:-0400
TZOFFSETTO:-0500
TZNAME:EST
DTSTART:20271107T060000
END:STANDARD
END:VTIMEZONE
BEGIN:VEVENT
DTSTART;VALUE=DATE:20260510
DTEND;VALUE=DATE:20260511
DTSTAMP:20260424T103559
CREATED:20260418T165104Z
LAST-MODIFIED:20260418T165104Z
UID:10000172-1778371200-1778457599@whitetailgolfclub.ca
SUMMARY:Mother's Day Golf Special
DESCRIPTION:Mom’s deserve the best every day – but especially on Mother’s Day! On Sunday\, May 10th\, all moms can golf 18 holes for just $28.00 plus HST (cart not included). Plus\, get a free gift from us when you check in! While quantities last.
URL:https://whitetailgolfclub.ca/event/mothers-day-golf-special/
END:VEVENT
END:VCALENDAR